BEGIN:VCALENDAR
PRODID:-//Microsoft Corporation//Outlook 14.0 MIMEDIR//EN
VERSION:2.0
METHOD:PUBLISH
BEGIN:VEVENT
UID:b710b8b2bf47865b8cac1131118089e8www.maisons-anciennes.qc.ca
DTSTAMP:20260423T115828Z
DTSTART:2026-06-01T10:30:0000Z
DTEND:2026-06-01T16:00:0000Z
SUMMARY:Hors-série - Québec, Visite du Parlement
LOCATION:Hôtel du Parlement de Québec, Québec, QC, Canada
DESCRIPTION:Dans cette visite hors-série, les participants auront la chance de visiter un bâtiment remarquable, en compagnie de guides chevronnés ! La visite débute avec un repas au restaurant « Le Parlementaire », mettant en vedette les produits locaux dans un décor sans pareil. Les participants seront ensuite guidés à travers le bâtiment de style Second Empire (1886), ayant ainsi l’opportunité d’y admirer sa riche architecture. Une visite de la plus ancienne bibliothèque parlementaire du Canada, celle de l’Assemblée Nationale, complètera la journée.

END:VEVENT
END:VCALENDAR