BEGIN:VCALENDAR
PRODID:-//Microsoft Corporation//Outlook 14.0 MIMEDIR//EN
VERSION:2.0
METHOD:PUBLISH
BEGIN:VEVENT
UID:a88649a4ca2d560f40d727b6d0e937f4www.maisons-anciennes.qc.ca
DTSTAMP:20260423T120558Z
DTSTART:2026-07-05T09:00:0000Z
DTEND:2026-07-05T16:00:0000Z
SUMMARY:Visites du dimanche - La Côte-de-Beaupré et achat du laissez-passer 2026
LOCATION:Côte-de-Beauport, QC, Canada
DESCRIPTION:Rappelant le nom ancien donné par Champlain, ce lieu historique, situé entre Québec et Charlevoix, offre de nombreux attraits naturels, de même que de nombreux bâtiments anciens figurant au répertoire de la MRC de la Côte-de-Beaupré.  Quel plaisir que de parcourir cette route de la Nouvelle-France, tout en admirant les rives du Saint-Laurent !

END:VEVENT
END:VCALENDAR