BEGIN:VCALENDAR
PRODID:-//Microsoft Corporation//Outlook 14.0 MIMEDIR//EN
VERSION:2.0
METHOD:PUBLISH
BEGIN:VEVENT
UID:d2186b5225716a1dde31a59c466004e6www.maisons-anciennes.qc.ca
DTSTAMP:20260423T114937Z
DTSTART:2026-08-09T10:30:0000Z
DTEND:2026-08-09T16:00:0000Z
SUMMARY:Visites du dimanche : Sainte-Geneviève-Île Bizard
LOCATION:L’Île-Bizard, QC, Canada
DESCRIPTION:Cette portion de l’Ouest de l’île de Montréal promet de belles découvertes concernant des bâtiments historiques, témoins des débuts de la colonisation.  Proximité des cours d’eau et activité agricole ont depuis toujours servi d’écrin verdoyant pour ces noyaux villageois, favorisant ainsi la mise en valeur de leurs belles maisons d’autrefois, par des passionnés heureux de partager expérience et exploits !

END:VEVENT
END:VCALENDAR