BEGIN:VCALENDAR
PRODID:-//Microsoft Corporation//Outlook 14.0 MIMEDIR//EN
VERSION:2.0
METHOD:PUBLISH
BEGIN:VEVENT
UID:005c9c05141666c464f52ec43cc4dc0ewww.maisons-anciennes.qc.ca
DTSTAMP:20260423T115828Z
DTSTART:2026-09-13T10:30:0000Z
DTEND:2026-09-13T16:00:0000Z
SUMMARY:Visites du dimanche : Saint-Lambert
LOCATION:Saint-Lambert, QC, Canada
DESCRIPTION:Née de la fusion de deux seigneuries concédées dès la fin du 17e siècle, Saint-Lambert s’est développée grâce à des facilités de transport, telles que routes, trains, écluse et, bien sûr, le pont Victoria.  De nombreux bâtiments résidentiels et institutionnels se sont ainsi multipliés. Ils affichent, encore de nos jours, des styles architecturaux variés, reflétant l’évolution de cette riche municipalité nichée en bordure du fleuve.  Bienvenue au cœur de ce voyage dans le temps … et l’espace !

END:VEVENT
END:VCALENDAR